BEGIN:VCALENDAR
VERSION:2.0
PRODID:-//Next Level Consultancy - ECPv6.15.20//NONSGML v1.0//EN
CALSCALE:GREGORIAN
METHOD:PUBLISH
X-WR-CALNAME:Next Level Consultancy
X-ORIGINAL-URL:https://www.nextlevelconsultancy.co.uk
X-WR-CALDESC:Events for Next Level Consultancy
REFRESH-INTERVAL;VALUE=DURATION:PT1H
X-Robots-Tag:noindex
X-PUBLISHED-TTL:PT1H
BEGIN:VTIMEZONE
TZID:Europe/London
BEGIN:DAYLIGHT
TZOFFSETFROM:+0000
TZOFFSETTO:+0100
TZNAME:BST
DTSTART:20220327T010000
END:DAYLIGHT
BEGIN:STANDARD
TZOFFSETFROM:+0100
TZOFFSETTO:+0000
TZNAME:GMT
DTSTART:20221030T010000
END:STANDARD
BEGIN:DAYLIGHT
TZOFFSETFROM:+0000
TZOFFSETTO:+0100
TZNAME:BST
DTSTART:20230326T010000
END:DAYLIGHT
BEGIN:STANDARD
TZOFFSETFROM:+0100
TZOFFSETTO:+0000
TZNAME:GMT
DTSTART:20231029T010000
END:STANDARD
BEGIN:DAYLIGHT
TZOFFSETFROM:+0000
TZOFFSETTO:+0100
TZNAME:BST
DTSTART:20240331T010000
END:DAYLIGHT
BEGIN:STANDARD
TZOFFSETFROM:+0100
TZOFFSETTO:+0000
TZNAME:GMT
DTSTART:20241027T010000
END:STANDARD
END:VTIMEZONE
BEGIN:VEVENT
DTSTART;TZID=Europe/London:20230803T173000
DTEND;TZID=Europe/London:20230803T203000
DTSTAMP:20260424T143444
CREATED:20230504T162022Z
LAST-MODIFIED:20230803T080306Z
UID:10000245-1691083800-1691094600@www.nextlevelconsultancy.co.uk
SUMMARY:Next Level Summer Social - Newcastle | Thur 3rd August
DESCRIPTION:[vc_row type=”full_width_background” full_screen_row_position=”middle” column_margin=”default” equal_height=”yes” content_placement=”middle” column_direction=”default” column_direction_tablet=”default” column_direction_phone=”default” scene_position=”center” bottom_padding=”1%” text_color=”dark” text_align=”left” row_border_radius=”none” row_border_radius_applies=”bg” overflow=”visible” id=”about” overlay_strength=”0.3″ gradient_direction=”left_to_right” shape_divider_position=”bottom” bg_image_animation=”none” shape_type=””][vc_column column_padding=”padding-5-percent” column_padding_tablet=”inherit” column_padding_phone=”inherit” column_padding_position=”all” column_element_direction_desktop=”default” column_element_spacing=”default” desktop_text_alignment=”default” tablet_text_alignment=”default” phone_text_alignment=”default” background_color_opacity=”1″ background_hover_color_opacity=”1″ background_image=”18183″ background_image_position=”center center” background_image_stacking=”default” enable_bg_scale=”true” background_image_loading=”default” column_backdrop_filter=”none” column_shadow=”none” column_border_radius=”none” column_link_target=”_self” column_position=”default” gradient_direction=”left_to_right” overlay_strength=”0.3″ width=”1/2″ tablet_width_inherit=”default” animation_type=”default” bg_image_animation=”zoom-out-reveal” border_type=”simple” column_border_width=”none” column_border_style=”solid” column_padding_type=”default” gradient_type=”default”][divider line_type=”No Line” custom_height_phone=”200″][/vc_column][vc_column column_padding=”padding-3-percent” column_padding_tablet=”inherit” column_padding_phone=”inherit” column_padding_position=”all” column_element_direction_desktop=”default” column_element_spacing=”default” desktop_text_alignment=”default” tablet_text_alignment=”default” phone_text_alignment=”default” background_color=”#f8f8f8″ background_color_opacity=”1″ background_hover_color_opacity=”1″ column_backdrop_filter=”none” column_shadow=”none” column_border_radius=”none” column_link_target=”_self” column_position=”default” gradient_direction=”left_to_right” overlay_strength=”0.3″ width=”1/2″ tablet_width_inherit=”default” animation_type=”default” bg_image_animation=”none” border_type=”simple” column_border_width=”none” column_border_style=”solid”][vc_row_inner equal_height=”yes” content_placement=”middle” column_margin=”default” column_direction=”default” column_direction_tablet=”default” column_direction_phone=”default” text_align=”center” row_position=”default” row_position_tablet=”inherit” row_position_phone=”inherit” overflow=”visible” pointer_events=”all”][vc_column_inner column_padding=”no-extra-padding” column_padding_tablet=”inherit” column_padding_phone=”inherit” column_padding_position=”all” column_element_direction_desktop=”default” column_element_spacing=”default” centered_text=”true” desktop_text_alignment=”default” tablet_text_alignment=”default” phone_text_alignment=”default” background_color_opacity=”1″ background_hover_color_opacity=”1″ column_backdrop_filter=”none” column_shadow=”none” column_border_radius=”none” column_link_target=”_self” overflow=”visible” gradient_direction=”left_to_right” overlay_strength=”0.3″ width=”1/2″ tablet_width_inherit=”default” animation_type=”default” bg_image_animation=”none” border_type=”simple” column_border_width=”none” column_border_style=”solid”][image_with_animation image_url=”689″ image_size=”full” animation_type=”entrance” animation=”Fade In” animation_easing=”default” animation_movement_type=”transform_y” hover_animation=”none” alignment=”” border_radius=”none” box_shadow=”none” image_loading=”default” max_width=”100%” max_width_mobile=”default”][/vc_column_inner][vc_column_inner column_padding=”no-extra-padding” column_padding_tablet=”inherit” column_padding_phone=”inherit” column_padding_position=”all” column_element_direction_desktop=”default” column_element_spacing=”default” centered_text=”true” desktop_text_alignment=”default” tablet_text_alignment=”default” phone_text_alignment=”default” background_color_opacity=”1″ background_hover_color_opacity=”1″ column_backdrop_filter=”none” column_shadow=”none” column_border_radius=”none” column_link_target=”_self” overflow=”visible” gradient_direction=”left_to_right” overlay_strength=”0.3″ width=”1/2″ tablet_width_inherit=”default” animation_type=”default” bg_image_animation=”none” border_type=”simple” column_border_width=”none” column_border_style=”solid”][image_with_animation image_url=”19310″ image_size=”full” animation_type=”entrance” animation=”Fade In” animation_easing=”default” animation_movement_type=”transform_y” hover_animation=”none” alignment=”center” border_radius=”none” box_shadow=”none” image_loading=”default” max_width=”75%” max_width_mobile=”default”][/vc_column_inner][/vc_row_inner][vc_column_text]\nNext Level Summer Social – Newcastle\n\n[/vc_column_text][divider line_type=”Full Width Line” line_thickness=”2″ divider_color=”accent-color”][vc_column_text]\nDate: Thursday 3rd August 2023\nTime: 5:30pm – 8:30pm\n£30.00 + VAT\n[/vc_column_text][vc_column_text]As we host Next Level Networking and Social Events across the UK\, we are delighted to announce the second of 3 Special Summer Events in London\, Newcastle and Manchester this year. as part of our expansion of our North East and Yorkshire Region. \nWe will be taking over taking over the Terrace at Victors – Newcastle\, ideally situated in Newcastle City Centre right on the Quayside. We’re excited to also have Diageo providing a Casamigos Tequila Sampling Session with us too. This is a great opportunity to meet likeminded Business Professionals\, from all backgrounds and roles\, together in a relaxed environment to build meaningful relationships\, all are welcome.[/vc_column_text][/vc_column][/vc_row][vc_row type=”full_width_background” full_screen_row_position=”middle” column_margin=”default” equal_height=”yes” content_placement=”middle” column_direction=”default” column_direction_tablet=”default” column_direction_phone=”default” scene_position=”center” top_padding=”0″ bottom_padding=”1%” text_color=”light” text_align=”left” row_border_radius=”none” row_border_radius_applies=”bg” overflow=”visible” id=”about” overlay_strength=”0.3″ gradient_direction=”left_to_right” shape_divider_position=”bottom” bg_image_animation=”none” shape_type=””][vc_column column_padding=”padding-3-percent” column_padding_tablet=”inherit” column_padding_phone=”inherit” column_padding_position=”all” column_element_direction_desktop=”default” column_element_spacing=”default” desktop_text_alignment=”default” tablet_text_alignment=”default” phone_text_alignment=”default” background_color=”#da2a1c” background_color_opacity=”1″ background_hover_color_opacity=”1″ column_backdrop_filter=”none” column_shadow=”none” column_border_radius=”none” column_link_target=”_self” column_position=”default” gradient_direction=”left_to_right” overlay_strength=”0.3″ width=”1/2″ tablet_width_inherit=”default” animation_type=”default” bg_image_animation=”none” border_type=”simple” column_border_width=”none” column_border_style=”solid”][vc_column_text]\nWho is going?\n[/vc_column_text][vc_column_text]We’re pleased to host our Next Level Summer Social in Newcastle. \nDress Code: Smart Casual (Comfortable) \nBusiness Professionals | Next Level Socials are:  \n\nOpen to All Roles and Sectors.\nRelaxed Social Events for Business Professionals to meet new people from different backgrounds and build meaningful relationships.\nHave No Guest Speakers\, Business Pitches and No Pressure to talk about Business.\nAre ideal for Team/ Community Socials or Client Entertainment\, so you don’t need to organise your own.\nGreat to introduce Business Professionals that are new to Networking as well as those more experienced and want something less formal.\n\n[/vc_column_text] \n\nCEO’s and MD’s\nDirector and Board Level Execs\nSole Traders and Freelance Professionals\nHeads of Department and Senior Management\nFinance\, Insurance and Legal Professionals\nEmployees and Associates\n\n [vc_column_text max_width=”500″]Be Social – It’s great to meet new people and you will have the opportunity to connect with those in attendance. There will be no need for Business Cards\, no Guest Speakers\, no Sales Pitches and most importantly no Pressure.[/vc_column_text][/vc_column][vc_column column_padding=”padding-5-percent” column_padding_tablet=”inherit” column_padding_phone=”inherit” column_padding_position=”all” column_element_direction_desktop=”default” column_element_spacing=”default” desktop_text_alignment=”default” tablet_text_alignment=”default” phone_text_alignment=”default” background_color_opacity=”1″ background_hover_color_opacity=”1″ background_image=”20283″ background_image_position=”center center” background_image_stacking=”default” enable_bg_scale=”true” background_image_loading=”default” column_backdrop_filter=”none” column_shadow=”none” column_border_radius=”none” column_link_target=”_self” column_position=”default” gradient_direction=”left_to_right” overlay_strength=”0.3″ width=”1/2″ tablet_width_inherit=”default” animation_type=”default” bg_image_animation=”zoom-out-reveal” border_type=”simple” column_border_width=”none” column_border_style=”solid” column_padding_type=”default” gradient_type=”default”][/vc_column][/vc_row][vc_row type=”full_width_background” full_screen_row_position=”middle” column_margin=”default” equal_height=”yes” content_placement=”middle” column_direction=”default” column_direction_tablet=”default” column_direction_phone=”default” bg_color=”#da2a1c” scene_position=”center” top_padding=”1%” bottom_padding=”1%” text_color=”light” text_align=”center” row_border_radius=”none” row_border_radius_applies=”bg” overflow=”visible” overlay_strength=”0.3″ gradient_direction=”left_to_right” shape_divider_position=”bottom” bg_image_animation=”none” shape_type=”” gradient_type=”default”][vc_column column_padding=”no-extra-padding” column_padding_tablet=”inherit” column_padding_phone=”inherit” column_padding_position=”all” column_element_direction_desktop=”default” column_element_spacing=”default” desktop_text_alignment=”default” tablet_text_alignment=”default” phone_text_alignment=”default” background_color_opacity=”1″ background_hover_color_opacity=”1″ column_backdrop_filter=”none” column_shadow=”none” column_border_radius=”none” column_link_target=”_self” column_position=”default” gradient_direction=”left_to_right” overlay_strength=”0.3″ width=”1/3″ tablet_width_inherit=”default” animation_type=”default” bg_image_animation=”zoom-out-reveal” border_type=”simple” column_border_width=”none” column_border_style=”solid”][nectar_btn size=”large” button_style=”regular” button_color_2=”Extra-Color-1″ icon_family=”none” url=”#ticket-options” text=”Non-Members: Book your Ticket!”][/vc_column][vc_column column_padding=”no-extra-padding” column_padding_tablet=”inherit” column_padding_phone=”inherit” column_padding_position=”all” column_element_direction_desktop=”default” column_element_spacing=”default” desktop_text_alignment=”default” tablet_text_alignment=”default” phone_text_alignment=”default” background_color_opacity=”1″ background_hover_color_opacity=”1″ column_backdrop_filter=”none” column_shadow=”none” column_border_radius=”none” column_link_target=”_self” column_position=”default” gradient_direction=”left_to_right” overlay_strength=”0.3″ width=”1/3″ tablet_width_inherit=”default” animation_type=”default” bg_image_animation=”none” border_type=”simple” column_border_width=”none” column_border_style=”solid”][nectar_btn size=”large” button_style=”regular” button_color_2=”Extra-Color-1″ icon_family=”none” url=”https://www.nextlevelconsultancy.co.uk/contact-us/” text=”Not a Member? Click here to join…”][/vc_column][vc_column column_padding=”no-extra-padding” column_padding_tablet=”inherit” column_padding_phone=”inherit” column_padding_position=”all” column_element_direction_desktop=”default” column_element_spacing=”default” desktop_text_alignment=”default” tablet_text_alignment=”default” phone_text_alignment=”default” background_color_opacity=”1″ background_hover_color_opacity=”1″ column_backdrop_filter=”none” column_shadow=”none” column_border_radius=”none” column_link_target=”_self” column_position=”default” gradient_direction=”left_to_right” overlay_strength=”0.3″ width=”1/3″ tablet_width_inherit=”default” animation_type=”default” bg_image_animation=”none” border_type=”simple” column_border_width=”none” column_border_style=”solid”][nectar_btn size=”large” button_style=”regular” button_color_2=”Extra-Color-1″ icon_family=”none” url=”#ticket-options” text=”Members: Click here to Reserve your Ticket”][/vc_column][/vc_row][vc_row type=”full_width_background” full_screen_row_position=”middle” column_margin=”default” equal_height=”yes” content_placement=”middle” column_direction=”default” column_direction_tablet=”default” column_direction_phone=”default” scene_position=”center” top_padding=”1%” bottom_padding=”1%” text_color=”light” text_align=”left” row_border_radius=”none” row_border_radius_applies=”bg” overflow=”visible” id=”about” overlay_strength=”0.3″ gradient_direction=”left_to_right” shape_divider_position=”bottom” bg_image_animation=”none” shape_type=””][vc_column column_padding=”no-extra-padding” column_padding_tablet=”inherit” column_padding_phone=”inherit” column_padding_position=”all” column_element_direction_desktop=”default” column_element_spacing=”default” desktop_text_alignment=”default” tablet_text_alignment=”default” phone_text_alignment=”default” background_color_opacity=”1″ background_hover_color_opacity=”1″ column_backdrop_filter=”none” column_shadow=”none” column_border_radius=”none” column_link_target=”_self” column_position=”default” gradient_direction=”left_to_right” overlay_strength=”0.3″ width=”1/1″ tablet_width_inherit=”default” animation_type=”default” bg_image_animation=”zoom-out-reveal” border_type=”simple” column_border_width=”none” column_border_style=”solid”][vc_gallery type=”nectarslider_style” images=”20272\,20271\,20270\,20268\,20273″ image_loading=”default” bullet_navigation_style=”scale” onclick=”link_no” img_size=”1200×400″][/vc_column][/vc_row][vc_row type=”full_width_background” full_screen_row_position=”middle” column_margin=”default” equal_height=”yes” content_placement=”middle” column_direction=”default” column_direction_tablet=”default” column_direction_phone=”default” scene_position=”center” top_padding=”0″ bottom_padding=”1%” text_color=”light” text_align=”left” row_border_radius=”none” row_border_radius_applies=”bg” overflow=”visible” id=”about” overlay_strength=”0.3″ gradient_direction=”left_to_right” shape_divider_position=”bottom” bg_image_animation=”none” shape_type=””][vc_column column_padding=”padding-3-percent” column_padding_tablet=”inherit” column_padding_phone=”inherit” column_padding_position=”all” column_element_direction_desktop=”default” column_element_spacing=”default” desktop_text_alignment=”default” tablet_text_alignment=”default” phone_text_alignment=”default” background_color=”#1b242c” background_color_opacity=”1″ background_hover_color_opacity=”1″ column_backdrop_filter=”none” column_shadow=”none” column_border_radius=”none” column_link_target=”_self” column_position=”default” gradient_direction=”left_to_right” overlay_strength=”0.3″ width=”1/1″ tablet_width_inherit=”default” animation_type=”default” bg_image_animation=”none” border_type=”simple” column_border_width=”none” column_border_style=”solid”][vc_column_text]\nHow will you benefit from participating?\n[/vc_column_text][vc_column_text]As part of our event\, you will have the following included by attending the event: \n\nNetworking opportunities exclusively with like-minded Business Professionals from a wide range of Sectors.\nMeet with the Next Level Community from your local Region\, as well as access across the UK.\nA Welcome Drink Bellini Cocktail\, a Mocktail\, Bottle of Beer or a Soft Drink with a fully stocked Bar available and a Special Deal for 2-4-1 Cocktails throughout the evening.\nWe are delighted to have Diageo with us Sponsoring the Casamigos Tequila Sampling Session with a range of up to 4 Drinks per person.\nDelicious Canapes will be served by the Victors Restaurant Team for the event so you will be well fed.\nWe will plant 2 Trees per person\, as part of our ongoing Partnership with Play It Green and our Mission to be the UK’s most Sustainable Networking Organisation.\nUnwind after work with some social interaction and relaxed conversation!\nInclusion in Social Media posts after the event to build your connections further.\nInclusion in an Exclusive LinkedIn Group. This will ensure you can connect with others in the Next Level Community\, not just those who attend this particular event.\n\nPlease contact us should you have any questions or would like to enquire about Sponsorship for this or any of our events: 0161 726 5845 | info@nextlevelconsultancy.co.uk \nTickets are limited and will be on sale on a first come\, first served basis. \nWe look forward to sharing a few drinks with you…[/vc_column_text][/vc_column][/vc_row][vc_row type=”full_width_background” full_screen_row_position=”middle” column_margin=”default” equal_height=”yes” content_placement=”top” column_direction=”default” column_direction_tablet=”default” column_direction_phone=”default” scene_position=”center” top_padding=”0″ bottom_padding=”1%” text_color=”light” text_align=”left” row_border_radius=”none” row_border_radius_applies=”bg” overflow=”visible” id=”about” overlay_strength=”0.3″ gradient_direction=”left_to_right” shape_divider_position=”bottom” bg_image_animation=”none” shape_type=””][vc_column column_padding=”padding-3-percent” column_padding_tablet=”inherit” column_padding_phone=”inherit” column_padding_position=”all” column_element_direction_desktop=”default” column_element_spacing=”default” desktop_text_alignment=”default” tablet_text_alignment=”default” phone_text_alignment=”default” background_color=”#da2a1c” background_color_opacity=”1″ background_hover_color_opacity=”1″ column_backdrop_filter=”none” column_shadow=”none” column_border_radius=”none” column_link_target=”_self” column_position=”default” gradient_direction=”left_to_right” overlay_strength=”0.3″ width=”1/2″ tablet_width_inherit=”default” animation_type=”default” bg_image_animation=”none” border_type=”simple” column_border_width=”none” column_border_style=”solid”][image_with_animation image_url=”19225″ image_size=”full” animation_type=”entrance” animation=”Fade In” animation_easing=”default” animation_movement_type=”transform_y” hover_animation=”none” alignment=”” border_radius=”none” box_shadow=”none” image_loading=”default” max_width=”100%” max_width_mobile=”default”][vc_column_text]\nYour Hosts\n[/vc_column_text][vc_column_text]Danny Williams | Managing Director of Next Level Consultancy Limited and Next Level Marketing Agency Ltd. \nLaura Middleton | Managing Director of Canny Social Ltd and Regional Events Director – North East and Yorkshire at Next Level Networking UK[/vc_column_text][vc_column_text]Hi\, I am Danny Williams\, Managing Director of Next Level Consultancy Limited and Next Level Marketing Agency Ltd and I will be hosting this event. Please contact me should you have any questions or would like to enquire about Sponsorship for this or any of our events. Please feel free to connect with me on LinkedIn in the meantime and I look forward to sharing a few drinks with you.[/vc_column_text][nectar_icon icon_family=”fontawesome” icon_style=”default” icon_color_type=”color_scheme” icon_color=”Extra-Color-1″ icon_padding=”0px” pointer_events=”all” icon_fontawesome=”fa fa-instagram” url=”https://www.instagram.com/nl_dannywilliams/” icon_size=”20″][/vc_column][vc_column column_padding=”padding-3-percent” column_padding_tablet=”inherit” column_padding_phone=”inherit” column_padding_position=”all” column_element_direction_desktop=”default” column_element_spacing=”default” desktop_text_alignment=”default” tablet_text_alignment=”default” phone_text_alignment=”default” background_color=”#1b242c” background_color_opacity=”1″ background_hover_color_opacity=”1″ column_backdrop_filter=”none” column_shadow=”none” column_border_radius=”none” column_link_target=”_self” column_position=”default” gradient_direction=”left_to_right” overlay_strength=”0.3″ width=”1/2″ tablet_width_inherit=”default” animation_type=”default” bg_image_animation=”none” border_type=”simple” column_border_width=”none” column_border_style=”solid”][image_with_animation image_url=”20275″ image_size=”full” animation_type=”entrance” animation=”Fade In” animation_easing=”default” animation_movement_type=”transform_y” hover_animation=”none” alignment=”” border_radius=”none” box_shadow=”none” image_loading=”default” max_width=”100%” max_width_mobile=”default”][vc_column_text]\nThe Venue\n[/vc_column_text][vc_column_text]Victors – Newcastle | 106 Quayside\, Newcastle upon Tyne\, NE1 3DX[/vc_column_text][vc_column_text]\n\n\n\n\nEnjoy everyday luxury and escape to Victors Newcastle\, in the heart of the city along the Quayside. Experience our modern Asian inspired menu and show stopping cocktails served under our iconic wisteria trees. \n\n\n\n\n\n\n\n\nBeautiful\, vibrant\, upscale yet informal\, Victors Newcastle is the perfect restaurant for everything from celebrations to intimate dining\, corporate events and group bookings. Located along the Quayside with views of the Millennium Bridge\, join us for cocktails\, lunch\, afternoon tea and dinner seven days a week. \n\n\n\n\n[/vc_column_text][nectar_icon icon_family=”fontawesome” icon_style=”default” icon_color_type=”color_scheme” icon_color=”Extra-Color-3″ icon_padding=”0px” pointer_events=”all” icon_fontawesome=”fa fa-instagram” url=”https://www.instagram.com/victors_restaurants/” icon_size=”20″][/vc_column][/vc_row][vc_row type=”in_container” full_screen_row_position=”middle” column_margin=”default” column_direction=”default” column_direction_tablet=”default” column_direction_phone=”default” scene_position=”center” top_padding=”0″ bottom_padding=”1%” text_color=”dark” text_align=”left” row_border_radius=”none” row_border_radius_applies=”bg” overflow=”visible” overlay_strength=”0.3″ gradient_direction=”left_to_right” shape_divider_position=”bottom” bg_image_animation=”none” shape_type=””][vc_column column_padding=”no-extra-padding” column_padding_tablet=”inherit” column_padding_phone=”inherit” column_padding_position=”all” column_element_direction_desktop=”default” column_element_spacing=”default” desktop_text_alignment=”default” tablet_text_alignment=”default” phone_text_alignment=”default” background_color_opacity=”1″ background_hover_color_opacity=”1″ column_backdrop_filter=”none” column_shadow=”none” column_border_radius=”none” column_link_target=”_self” column_position=”default” gradient_direction=”left_to_right” overlay_strength=”0.3″ width=”1/3″ tablet_width_inherit=”default” animation_type=”default” bg_image_animation=”none” border_type=”simple” column_border_width=”none” column_border_style=”solid”][fancy_box box_style=”default” icon_family=”none” image_url=”17661″ color=”accent-color” border_radius=”default” image_loading=”default” link_text=”Coming Soon”]\nMemberships\n[/fancy_box][/vc_column][vc_column column_padding=”no-extra-padding” column_padding_tablet=”inherit” column_padding_phone=”inherit” column_padding_position=”all” column_element_direction_desktop=”default” column_element_spacing=”default” desktop_text_alignment=”default” tablet_text_alignment=”default” phone_text_alignment=”default” background_color_opacity=”1″ background_hover_color_opacity=”1″ column_backdrop_filter=”none” column_shadow=”none” column_border_radius=”none” column_link_target=”_self” column_position=”default” gradient_direction=”left_to_right” overlay_strength=”0.3″ width=”1/3″ tablet_width_inherit=”default” animation_type=”default” bg_image_animation=”none” border_type=”simple” column_border_width=”none” column_border_style=”solid”][fancy_box box_style=”default” icon_family=”none” image_url=”18007″ color=”accent-color” border_radius=”default” image_loading=”default” link_text=”Coming Soon”]\nSponsorships\n[/fancy_box][/vc_column][vc_column column_padding=”no-extra-padding” column_padding_tablet=”inherit” column_padding_phone=”inherit” column_padding_position=”all” column_element_direction_desktop=”default” column_element_spacing=”default” desktop_text_alignment=”default” tablet_text_alignment=”default” phone_text_alignment=”default” background_color_opacity=”1″ background_hover_color_opacity=”1″ column_backdrop_filter=”none” column_shadow=”none” column_border_radius=”none” column_link_target=”_self” column_position=”default” gradient_direction=”left_to_right” overlay_strength=”0.3″ width=”1/3″ tablet_width_inherit=”default” animation_type=”default” bg_image_animation=”none” border_type=”simple” column_border_width=”none” column_border_style=”solid”][fancy_box box_style=”default” icon_family=”none” image_url=”17659″ color=”accent-color” border_radius=”default” image_loading=”default” link_text=”Coming Soon”]\nPartnerships\n[/fancy_box][/vc_column][/vc_row][vc_row type=”full_width_background” full_screen_row_position=”middle” column_margin=”default” equal_height=”yes” content_placement=”middle” column_direction=”default” column_direction_tablet=”default” column_direction_phone=”default” bg_color=”#da2a1c” scene_position=”center” top_padding=”1%” bottom_padding=”1%” text_color=”light” text_align=”center” row_border_radius=”none” row_border_radius_applies=”bg” overflow=”visible” id=”ticket-options” overlay_strength=”0.3″ gradient_direction=”left_to_right” shape_divider_position=”bottom” bg_image_animation=”none” shape_type=””][vc_column column_padding=”no-extra-padding” column_padding_tablet=”inherit” column_padding_phone=”inherit” column_padding_position=”all” column_element_direction_desktop=”default” column_element_spacing=”default” desktop_text_alignment=”default” tablet_text_alignment=”default” phone_text_alignment=”default” background_color_opacity=”1″ background_hover_color_opacity=”1″ column_backdrop_filter=”none” column_shadow=”none” column_border_radius=”none” column_link_target=”_self” column_position=”default” gradient_direction=”left_to_right” overlay_strength=”0.3″ width=”1/1″ tablet_width_inherit=”default” animation_type=”default” bg_image_animation=”none” border_type=”simple” column_border_width=”none” column_border_style=”solid”][vc_column_text]\nTicket Options\n[/vc_column_text][/vc_column][/vc_row]
URL:https://www.nextlevelconsultancy.co.uk/event/next-level-summer-social-newcastle-thursday-3rd-august/
LOCATION:Victors Newcastle\, 106 Quayside\,\, Newcastle upon Tyne\, NE1 3DX
CATEGORIES:Networking,Next Level Social,Region
ATTACH;FMTTYPE=image/png:https://www.nextlevelconsultancy.co.uk/wp-content/uploads/2023/05/1.png
ORGANIZER;CN="Danny Williams":MAILTO:danny@nextlevelconsultancy.co.uk
END:VEVENT
END:VCALENDAR