BEGIN:VCALENDAR
VERSION:2.0
PRODID:-//Next Level Consultancy - ECPv6.15.20//NONSGML v1.0//EN
CALSCALE:GREGORIAN
METHOD:PUBLISH
X-ORIGINAL-URL:https://www.nextlevelconsultancy.co.uk
X-WR-CALDESC:Events for Next Level Consultancy
REFRESH-INTERVAL;VALUE=DURATION:PT1H
X-Robots-Tag:noindex
X-PUBLISHED-TTL:PT1H
BEGIN:VTIMEZONE
TZID:Europe/London
BEGIN:DAYLIGHT
TZOFFSETFROM:+0000
TZOFFSETTO:+0100
TZNAME:BST
DTSTART:20220327T010000
END:DAYLIGHT
BEGIN:STANDARD
TZOFFSETFROM:+0100
TZOFFSETTO:+0000
TZNAME:GMT
DTSTART:20221030T010000
END:STANDARD
BEGIN:DAYLIGHT
TZOFFSETFROM:+0000
TZOFFSETTO:+0100
TZNAME:BST
DTSTART:20230326T010000
END:DAYLIGHT
BEGIN:STANDARD
TZOFFSETFROM:+0100
TZOFFSETTO:+0000
TZNAME:GMT
DTSTART:20231029T010000
END:STANDARD
BEGIN:DAYLIGHT
TZOFFSETFROM:+0000
TZOFFSETTO:+0100
TZNAME:BST
DTSTART:20240331T010000
END:DAYLIGHT
BEGIN:STANDARD
TZOFFSETFROM:+0100
TZOFFSETTO:+0000
TZNAME:GMT
DTSTART:20241027T010000
END:STANDARD
END:VTIMEZONE
BEGIN:VEVENT
DTSTART;TZID=Europe/London:20231117T100000
DTEND;TZID=Europe/London:20231117T120000
DTSTAMP:20260424T115659
CREATED:20231110T173422Z
LAST-MODIFIED:20231110T173422Z
UID:10000250-1700215200-1700222400@www.nextlevelconsultancy.co.uk
SUMMARY:Next Level Business Brunch - London | Fri 17th Nov 23
DESCRIPTION:[vc_row type=”full_width_background” full_screen_row_position=”middle” column_margin=”default” equal_height=”yes” content_placement=”middle” column_direction=”default” column_direction_tablet=”default” column_direction_phone=”default” scene_position=”center” bottom_padding=”1%” text_color=”dark” text_align=”left” row_border_radius=”none” row_border_radius_applies=”bg” overflow=”visible” id=”about” overlay_strength=”0.3″ gradient_direction=”left_to_right” shape_divider_position=”bottom” bg_image_animation=”none” shape_type=””][vc_column column_padding=”padding-5-percent” column_padding_tablet=”inherit” column_padding_phone=”inherit” column_padding_position=”all” column_element_direction_desktop=”default” column_element_spacing=”default” desktop_text_alignment=”default” tablet_text_alignment=”default” phone_text_alignment=”default” background_color_opacity=”1″ background_hover_color_opacity=”1″ background_image=”18762″ background_image_position=”center center” background_image_stacking=”default” enable_bg_scale=”true” background_image_loading=”default” column_backdrop_filter=”none” column_shadow=”none” column_border_radius=”none” column_link_target=”_self” column_position=”default” gradient_direction=”left_to_right” overlay_strength=”0.3″ width=”1/2″ tablet_width_inherit=”default” animation_type=”default” bg_image_animation=”zoom-out-reveal” border_type=”simple” column_border_width=”none” column_border_style=”solid”][divider line_type=”No Line” custom_height_phone=”200″][/vc_column][vc_column column_padding=”padding-3-percent” column_padding_tablet=”inherit” column_padding_phone=”inherit” column_padding_position=”all” column_element_direction_desktop=”default” column_element_spacing=”default” desktop_text_alignment=”default” tablet_text_alignment=”default” phone_text_alignment=”default” background_color=”#f8f8f8″ background_color_opacity=”1″ background_hover_color_opacity=”1″ column_backdrop_filter=”none” column_shadow=”none” column_border_radius=”none” column_link_target=”_self” column_position=”default” gradient_direction=”left_to_right” overlay_strength=”0.3″ width=”1/2″ tablet_width_inherit=”default” animation_type=”default” bg_image_animation=”none” border_type=”simple” column_border_width=”none” column_border_style=”solid”][vc_row_inner equal_height=”yes” content_placement=”middle” column_margin=”default” column_direction=”default” column_direction_tablet=”default” column_direction_phone=”default” text_align=”center” row_position=”default” row_position_tablet=”inherit” row_position_phone=”inherit” overflow=”visible” pointer_events=”all”][vc_column_inner column_padding=”no-extra-padding” column_padding_tablet=”inherit” column_padding_phone=”inherit” column_padding_position=”all” column_element_direction_desktop=”default” column_element_spacing=”default” centered_text=”true” desktop_text_alignment=”default” tablet_text_alignment=”default” phone_text_alignment=”default” background_color_opacity=”1″ background_hover_color_opacity=”1″ column_backdrop_filter=”none” column_shadow=”none” column_border_radius=”none” column_link_target=”_self” overflow=”visible” gradient_direction=”left_to_right” overlay_strength=”0.3″ width=”1/2″ tablet_width_inherit=”default” animation_type=”default” bg_image_animation=”none” border_type=”simple” column_border_width=”none” column_border_style=”solid”][image_with_animation image_url=”20588″ image_size=”full” animation_type=”entrance” animation=”Fade In” animation_easing=”default” animation_movement_type=”transform_y” hover_animation=”none” alignment=”” border_radius=”none” box_shadow=”none” image_loading=”default” max_width=”100%” max_width_mobile=”default”][/vc_column_inner][vc_column_inner column_padding=”no-extra-padding” column_padding_tablet=”inherit” column_padding_phone=”inherit” column_padding_position=”all” column_element_direction_desktop=”default” column_element_spacing=”default” centered_text=”true” desktop_text_alignment=”default” tablet_text_alignment=”default” phone_text_alignment=”default” background_color_opacity=”1″ background_hover_color_opacity=”1″ column_backdrop_filter=”none” column_shadow=”none” column_border_radius=”none” column_link_target=”_self” overflow=”visible” gradient_direction=”left_to_right” overlay_strength=”0.3″ width=”1/2″ tablet_width_inherit=”default” animation_type=”default” bg_image_animation=”none” border_type=”simple” column_border_width=”none” column_border_style=”solid”][image_with_animation image_url=”19311″ image_size=”full” animation_type=”entrance” animation=”Fade In” animation_easing=”default” animation_movement_type=”transform_y” hover_animation=”none” alignment=”center” border_radius=”none” box_shadow=”none” image_loading=”default” max_width=”75%” max_width_mobile=”default”][/vc_column_inner][/vc_row_inner][vc_column_text]\nNext Level Business Brunch – London\n[/vc_column_text][divider line_type=”Full Width Line” line_thickness=”2″ divider_color=”accent-color”][vc_column_text]\nDate: Friday 17th November 2023\nTime: 10:00am – 12:00pm\n£20.00 + VAT\n[/vc_column_text][vc_column_text]Do you enjoy Networking after commuting in to the city at 7am? Neither do we! \nAs a Networking Organisation that has prides ourselves on events in the evening\, in a relaxed social environment\, since we started back in June 2019… we’re ready to take Breakfast Networking to the next level. Oh\, it’s with Brunch though! \nNext Level Networking UK is delighted to announce the next event for our Business Brunch Events Series\, after successfully launching in Manchester and London earlier this year. \nWe’re excited to be hosting our next Brunch Event The Happenstance by Drake & Morgan in St Pauls\, London this month. \nIdeally situated in Central London\, we’re excited to host this Business Brunch enabling Business Professionals to come together in Hospitality Venues to proactively network\, build relationships and work on referring Business to each other. \nThis is a great opportunity to meet like-minded Business Professionals\, from all backgrounds and roles\, together to build meaningful relationships and proactively refer Connections to each other\, all are welcome.[/vc_column_text][/vc_column][/vc_row][vc_row type=”full_width_background” full_screen_row_position=”middle” column_margin=”default” equal_height=”yes” content_placement=”middle” column_direction=”default” column_direction_tablet=”default” column_direction_phone=”default” scene_position=”center” top_padding=”0″ bottom_padding=”1%” text_color=”light” text_align=”left” row_border_radius=”none” row_border_radius_applies=”bg” overflow=”visible” id=”about” overlay_strength=”0.3″ gradient_direction=”left_to_right” shape_divider_position=”bottom” bg_image_animation=”none” shape_type=””][vc_column column_padding=”padding-3-percent” column_padding_tablet=”inherit” column_padding_phone=”inherit” column_padding_position=”all” column_element_direction_desktop=”default” column_element_spacing=”default” desktop_text_alignment=”default” tablet_text_alignment=”default” phone_text_alignment=”default” background_color=”#da2a1c” background_color_opacity=”1″ background_hover_color_opacity=”1″ column_backdrop_filter=”none” column_shadow=”none” column_border_radius=”none” column_link_target=”_self” column_position=”default” gradient_direction=”left_to_right” overlay_strength=”0.3″ width=”1/2″ tablet_width_inherit=”default” animation_type=”default” bg_image_animation=”none” border_type=”simple” column_border_width=”none” column_border_style=”solid”][vc_column_text]\nWho is going?\n[/vc_column_text][vc_column_text]We’re pleased to host our Next Level Business Brunch in London.\nDress Code: Business Dress (Casual or Suits\, whatever you wear to Work)\nBusiness Professionals | Next Level Business Brunches are:  \n\nOpen to All Roles and Sectors.\nAre ideal for Business Professionals looking to meet new people from different backgrounds\, build meaningful relationships and develop opportunities to work together.\nThese are seated events\, designed to best connect with your ideal Prospect Client or Referral Partner to proactively promote your Business.\nAre ideal for Business Owners and Sales and Marketing Professionals.\nGreat for Business Professionals that are both new to Networking as well as those more experienced and want something with clear structure but in a modern way.\n\n[/vc_column_text] \n\nCEO’s and MD’s\nDirector and Board Level Execs\nSole Traders and Freelance Professionals\nSales\, Marketing and HR Professionals\nFinance\, Insurance and Legal Professionals\nEmployees and Associates\n\n [vc_column_text max_width=”500″]Back to the City – It’s great to meet new people in person and you will have the opportunity to connect with those in attendance as well as be referred to their Connections. We’re passionate about encouraging Business Professionals back in to the city on the occasional Friday to support the your Mental Health\, the Local Economy and the Hospitality Industry. We’ll also suggest locations where you will be able to work before and or after to get the most out of your day![/vc_column_text][/vc_column][vc_column column_padding=”padding-5-percent” column_padding_tablet=”inherit” column_padding_phone=”inherit” column_padding_position=”all” column_element_direction_desktop=”default” column_element_spacing=”default” desktop_text_alignment=”default” tablet_text_alignment=”default” phone_text_alignment=”default” background_color_opacity=”1″ background_hover_color_opacity=”1″ background_image=”20667″ background_image_position=”center center” background_image_stacking=”default” enable_bg_scale=”true” background_image_loading=”default” column_backdrop_filter=”none” column_shadow=”none” column_border_radius=”none” column_link_target=”_self” column_position=”default” gradient_direction=”left_to_right” overlay_strength=”0.3″ width=”1/2″ tablet_width_inherit=”default” animation_type=”default” bg_image_animation=”zoom-out-reveal” border_type=”simple” column_border_width=”none” column_border_style=”solid” column_padding_type=”default” gradient_type=”default”][/vc_column][/vc_row][vc_row type=”full_width_background” full_screen_row_position=”middle” column_margin=”default” equal_height=”yes” content_placement=”middle” column_direction=”default” column_direction_tablet=”default” column_direction_phone=”default” bg_color=”#da2a1c” scene_position=”center” top_padding=”1%” bottom_padding=”1%” text_color=”light” text_align=”center” row_border_radius=”none” row_border_radius_applies=”bg” overflow=”visible” overlay_strength=”0.3″ gradient_direction=”left_to_right” shape_divider_position=”bottom” bg_image_animation=”none” shape_type=”” gradient_type=”default”][vc_column column_padding=”no-extra-padding” column_padding_tablet=”inherit” column_padding_phone=”inherit” column_padding_position=”all” column_element_direction_desktop=”default” column_element_spacing=”default” desktop_text_alignment=”default” tablet_text_alignment=”default” phone_text_alignment=”default” background_color_opacity=”1″ background_hover_color_opacity=”1″ column_backdrop_filter=”none” column_shadow=”none” column_border_radius=”none” column_link_target=”_self” column_position=”default” gradient_direction=”left_to_right” overlay_strength=”0.3″ width=”1/3″ tablet_width_inherit=”default” animation_type=”default” bg_image_animation=”zoom-out-reveal” border_type=”simple” column_border_width=”none” column_border_style=”solid”][nectar_btn size=”large” button_style=”regular” button_color_2=”Extra-Color-1″ icon_family=”none” url=”#ticket-options” text=”Non-Members: Book your Ticket!”][/vc_column][vc_column column_padding=”no-extra-padding” column_padding_tablet=”inherit” column_padding_phone=”inherit” column_padding_position=”all” column_element_direction_desktop=”default” column_element_spacing=”default” desktop_text_alignment=”default” tablet_text_alignment=”default” phone_text_alignment=”default” background_color_opacity=”1″ background_hover_color_opacity=”1″ column_backdrop_filter=”none” column_shadow=”none” column_border_radius=”none” column_link_target=”_self” column_position=”default” gradient_direction=”left_to_right” overlay_strength=”0.3″ width=”1/3″ tablet_width_inherit=”default” animation_type=”default” bg_image_animation=”none” border_type=”simple” column_border_width=”none” column_border_style=”solid”][nectar_btn size=”large” button_style=”regular” button_color_2=”Extra-Color-1″ icon_family=”none” url=”https://www.nextlevelconsultancy.co.uk/contact-us/” text=”Not a Member? Click here to join…”][/vc_column][vc_column column_padding=”no-extra-padding” column_padding_tablet=”inherit” column_padding_phone=”inherit” column_padding_position=”all” column_element_direction_desktop=”default” column_element_spacing=”default” desktop_text_alignment=”default” tablet_text_alignment=”default” phone_text_alignment=”default” background_color_opacity=”1″ background_hover_color_opacity=”1″ column_backdrop_filter=”none” column_shadow=”none” column_border_radius=”none” column_link_target=”_self” column_position=”default” gradient_direction=”left_to_right” overlay_strength=”0.3″ width=”1/3″ tablet_width_inherit=”default” animation_type=”default” bg_image_animation=”none” border_type=”simple” column_border_width=”none” column_border_style=”solid”][nectar_btn size=”large” button_style=”regular” button_color_2=”Extra-Color-1″ icon_family=”none” url=”#ticket-options” text=”Members: Click here to Reserve your Ticket”][/vc_column][/vc_row][vc_row type=”full_width_background” full_screen_row_position=”middle” column_margin=”default” equal_height=”yes” content_placement=”middle” column_direction=”default” column_direction_tablet=”default” column_direction_phone=”default” scene_position=”center” top_padding=”1%” bottom_padding=”1%” text_color=”light” text_align=”left” row_border_radius=”none” row_border_radius_applies=”bg” overflow=”visible” id=”about” overlay_strength=”0.3″ gradient_direction=”left_to_right” shape_divider_position=”bottom” bg_image_animation=”none” shape_type=””][vc_column column_padding=”no-extra-padding” column_padding_tablet=”inherit” column_padding_phone=”inherit” column_padding_position=”all” column_element_direction_desktop=”default” column_element_spacing=”default” desktop_text_alignment=”default” tablet_text_alignment=”default” phone_text_alignment=”default” background_color_opacity=”1″ background_hover_color_opacity=”1″ column_backdrop_filter=”none” column_shadow=”none” column_border_radius=”none” column_link_target=”_self” column_position=”default” gradient_direction=”left_to_right” overlay_strength=”0.3″ width=”1/1″ tablet_width_inherit=”default” animation_type=”default” bg_image_animation=”zoom-out-reveal” border_type=”simple” column_border_width=”none” column_border_style=”solid”][vc_gallery type=”nectarslider_style” images=”20666\,20667\,20664\,20587\,20592″ image_loading=”default” bullet_navigation_style=”scale” onclick=”link_no” img_size=”1200×400″][/vc_column][/vc_row][vc_row type=”full_width_background” full_screen_row_position=”middle” column_margin=”default” equal_height=”yes” content_placement=”middle” column_direction=”default” column_direction_tablet=”default” column_direction_phone=”default” scene_position=”center” top_padding=”0″ bottom_padding=”1%” text_color=”light” text_align=”left” row_border_radius=”none” row_border_radius_applies=”bg” overflow=”visible” id=”about” overlay_strength=”0.3″ gradient_direction=”left_to_right” shape_divider_position=”bottom” bg_image_animation=”none” shape_type=””][vc_column column_padding=”padding-3-percent” column_padding_tablet=”inherit” column_padding_phone=”inherit” column_padding_position=”all” column_element_direction_desktop=”default” column_element_spacing=”default” desktop_text_alignment=”default” tablet_text_alignment=”default” phone_text_alignment=”default” background_color=”#1b242c” background_color_opacity=”1″ background_hover_color_opacity=”1″ column_backdrop_filter=”none” column_shadow=”none” column_border_radius=”none” column_link_target=”_self” column_position=”default” gradient_direction=”left_to_right” overlay_strength=”0.3″ width=”1/1″ tablet_width_inherit=”default” animation_type=”default” bg_image_animation=”none” border_type=”simple” column_border_width=”none” column_border_style=”solid”][vc_column_text]\nHow will you benefit from participating?\n[/vc_column_text][vc_column_text]As part of our event\, you will have the following included by attending the event: \n\nNetworking opportunities exclusively with like-minded Business Professionals from a wide range of Sectors.\nMeet with the Next Level Community from your local Region\, as well as access across the UK.\n1 x Brunch Option of either a Breakfast Sarnie\, Breakfast Bowl or Avocado on Toast with Refillable Tea or Coffee as well as jugs of Orange Juice and Water available.\nWe will plant 2 Trees per person\, as part of our ongoing Partnership with Play It Green and our Mission to be the UK’s most Sustainable Networking Organisation.\nWork together to proactively Refer at least 5 Connections to promote your Business!\nInclusion in Social Media posts after the event to build your connections further.\nInclusion in an Exclusive LinkedIn Group. This will ensure you can connect with others in the Next Level Community\, not just those who attend this particular event.\n\nPlease contact us should you have any questions or would like to enquire about Sponsorship for this or any of our events: \n0161 726 5845 | info@nextlevelconsultancy.co.uk \nTickets are limited and will be on sale on a first come\, first served basis until the Registration Deadline on Thursday 16th November | 5.30pm \nWe look forward to welcoming you to the Next Level Business Brunch…[/vc_column_text][/vc_column][/vc_row][vc_row type=”full_width_background” full_screen_row_position=”middle” column_margin=”default” equal_height=”yes” content_placement=”top” column_direction=”default” column_direction_tablet=”default” column_direction_phone=”default” scene_position=”center” top_padding=”0″ bottom_padding=”1%” text_color=”light” text_align=”left” row_border_radius=”none” row_border_radius_applies=”bg” overflow=”visible” id=”about” overlay_strength=”0.3″ gradient_direction=”left_to_right” shape_divider_position=”bottom” bg_image_animation=”none” shape_type=””][vc_column column_padding=”padding-3-percent” column_padding_tablet=”inherit” column_padding_phone=”inherit” column_padding_position=”all” column_element_direction_desktop=”default” column_element_spacing=”default” desktop_text_alignment=”default” tablet_text_alignment=”default” phone_text_alignment=”default” background_color=”#da2a1c” background_color_opacity=”1″ background_hover_color_opacity=”1″ column_backdrop_filter=”none” column_shadow=”none” column_border_radius=”none” column_link_target=”_self” column_position=”default” gradient_direction=”left_to_right” overlay_strength=”0.3″ width=”1/2″ tablet_width_inherit=”default” animation_type=”default” bg_image_animation=”none” border_type=”simple” column_border_width=”none” column_border_style=”solid”][image_with_animation image_url=”19225″ image_size=”full” animation_type=”entrance” animation=”Fade In” animation_easing=”default” animation_movement_type=”transform_y” hover_animation=”none” alignment=”” border_radius=”none” box_shadow=”none” image_loading=”default” max_width=”100%” max_width_mobile=”default”][vc_column_text]\nYour Host\n[/vc_column_text][vc_column_text]Danny Williams | Managing Director of Next Level Consultancy Limited and Next Level Marketing Agency Ltd.[/vc_column_text][vc_column_text]Hi\, I am Danny Williams\, Managing Director of Next Level Consultancy Limited and Next Level Marketing Agency Ltd and I will be hosting this event. Please contact me should you have any questions or would like to enquire about Sponsorship for this or any of our events. Please feel free to connect with me on LinkedIn in the meantime and I look forward to sharing a few drinks with you.[/vc_column_text][nectar_icon icon_family=”fontawesome” icon_style=”default” icon_color_type=”color_scheme” icon_color=”Extra-Color-1″ icon_padding=”0px” pointer_events=”all” icon_fontawesome=”fa fa-linkedin” url=”https://www.linkedin.com/in/danny-williams-0b991356/” icon_size=”20″][/vc_column][vc_column column_padding=”padding-3-percent” column_padding_tablet=”inherit” column_padding_phone=”inherit” column_padding_position=”all” column_element_direction_desktop=”default” column_element_spacing=”default” desktop_text_alignment=”default” tablet_text_alignment=”default” phone_text_alignment=”default” background_color=”#1b242c” background_color_opacity=”1″ background_hover_color_opacity=”1″ column_backdrop_filter=”none” column_shadow=”none” column_border_radius=”none” column_link_target=”_self” column_position=”default” gradient_direction=”left_to_right” overlay_strength=”0.3″ width=”1/2″ tablet_width_inherit=”default” animation_type=”default” bg_image_animation=”none” border_type=”simple” column_border_width=”none” column_border_style=”solid”][image_with_animation image_url=”20591″ image_size=”full” animation_type=”entrance” animation=”Fade In” animation_easing=”default” animation_movement_type=”transform_y” hover_animation=”none” alignment=”” border_radius=”none” box_shadow=”none” image_loading=”default” max_width=”100%” max_width_mobile=”default”][vc_column_text]\nThe Venue\n[/vc_column_text][vc_column_text]The Happenstance by Drake & Morgan | 10 Paternoster Square\, London\, EC4M 7DX[/vc_column_text][vc_column_text]Nestled in the shadow of St Paul’s Cathedral sits our stunning bar & restaurant. Central location\, stylish interiors & seasonal food & drink menus – you’ll happen upon us & never want to leave.[/vc_column_text][nectar_icon icon_family=”fontawesome” icon_style=”default” icon_color_type=”color_scheme” icon_color=”Extra-Color-3″ icon_padding=”15px” pointer_events=”all” icon_fontawesome=”fa fa-linkedin” url=”https://www.linkedin.com/company/drake-&-morgan/” icon_size=”20″][nectar_icon icon_family=”fontawesome” icon_style=”default” icon_color_type=”color_scheme” icon_color=”Extra-Color-3″ icon_padding=”15px” pointer_events=”all” icon_fontawesome=”fa fa-instagram” url=”https://www.instagram.com/drakeandmorgan/” icon_size=”20″][/vc_column][/vc_row][vc_row type=”in_container” full_screen_row_position=”middle” column_margin=”default” column_direction=”default” column_direction_tablet=”default” column_direction_phone=”default” scene_position=”center” top_padding=”0″ bottom_padding=”1%” text_color=”dark” text_align=”left” row_border_radius=”none” row_border_radius_applies=”bg” overflow=”visible” overlay_strength=”0.3″ gradient_direction=”left_to_right” shape_divider_position=”bottom” bg_image_animation=”none” shape_type=””][vc_column column_padding=”no-extra-padding” column_padding_tablet=”inherit” column_padding_phone=”inherit” column_padding_position=”all” column_element_direction_desktop=”default” column_element_spacing=”default” desktop_text_alignment=”default” tablet_text_alignment=”default” phone_text_alignment=”default” background_color_opacity=”1″ background_hover_color_opacity=”1″ column_backdrop_filter=”none” column_shadow=”none” column_border_radius=”none” column_link_target=”_self” column_position=”default” gradient_direction=”left_to_right” overlay_strength=”0.3″ width=”1/3″ tablet_width_inherit=”default” animation_type=”default” bg_image_animation=”none” border_type=”simple” column_border_width=”none” column_border_style=”solid”][fancy_box box_style=”default” icon_family=”none” image_url=”17661″ color=”accent-color” border_radius=”default” image_loading=”default” link_text=”Coming Soon”]\nMemberships\n[/fancy_box][/vc_column][vc_column column_padding=”no-extra-padding” column_padding_tablet=”inherit” column_padding_phone=”inherit” column_padding_position=”all” column_element_direction_desktop=”default” column_element_spacing=”default” desktop_text_alignment=”default” tablet_text_alignment=”default” phone_text_alignment=”default” background_color_opacity=”1″ background_hover_color_opacity=”1″ column_backdrop_filter=”none” column_shadow=”none” column_border_radius=”none” column_link_target=”_self” column_position=”default” gradient_direction=”left_to_right” overlay_strength=”0.3″ width=”1/3″ tablet_width_inherit=”default” animation_type=”default” bg_image_animation=”none” border_type=”simple” column_border_width=”none” column_border_style=”solid”][fancy_box box_style=”default” icon_family=”none” image_url=”18007″ color=”accent-color” border_radius=”default” image_loading=”default” link_text=”Coming Soon”]\nSponsorships\n[/fancy_box][/vc_column][vc_column column_padding=”no-extra-padding” column_padding_tablet=”inherit” column_padding_phone=”inherit” column_padding_position=”all” column_element_direction_desktop=”default” column_element_spacing=”default” desktop_text_alignment=”default” tablet_text_alignment=”default” phone_text_alignment=”default” background_color_opacity=”1″ background_hover_color_opacity=”1″ column_backdrop_filter=”none” column_shadow=”none” column_border_radius=”none” column_link_target=”_self” column_position=”default” gradient_direction=”left_to_right” overlay_strength=”0.3″ width=”1/3″ tablet_width_inherit=”default” animation_type=”default” bg_image_animation=”none” border_type=”simple” column_border_width=”none” column_border_style=”solid”][fancy_box box_style=”default” icon_family=”none” image_url=”17659″ color=”accent-color” border_radius=”default” image_loading=”default” link_text=”Coming Soon”]\nPartnerships\n[/fancy_box][/vc_column][/vc_row][vc_row type=”full_width_background” full_screen_row_position=”middle” column_margin=”default” equal_height=”yes” content_placement=”middle” column_direction=”default” column_direction_tablet=”default” column_direction_phone=”default” bg_color=”#da2a1c” scene_position=”center” top_padding=”1%” bottom_padding=”1%” text_color=”light” text_align=”center” row_border_radius=”none” row_border_radius_applies=”bg” overflow=”visible” id=”ticket-options” overlay_strength=”0.3″ gradient_direction=”left_to_right” shape_divider_position=”bottom” bg_image_animation=”none” shape_type=””][vc_column column_padding=”no-extra-padding” column_padding_tablet=”inherit” column_padding_phone=”inherit” column_padding_position=”all” column_element_direction_desktop=”default” column_element_spacing=”default” desktop_text_alignment=”default” tablet_text_alignment=”default” phone_text_alignment=”default” background_color_opacity=”1″ background_hover_color_opacity=”1″ column_backdrop_filter=”none” column_shadow=”none” column_border_radius=”none” column_link_target=”_self” column_position=”default” gradient_direction=”left_to_right” overlay_strength=”0.3″ width=”1/1″ tablet_width_inherit=”default” animation_type=”default” bg_image_animation=”none” border_type=”simple” column_border_width=”none” column_border_style=”solid”][vc_column_text]\nTicket Options\n[/vc_column_text][/vc_column][/vc_row]
URL:https://www.nextlevelconsultancy.co.uk/event/next-level-business-brunch-london-fri-17th-nov-23/
LOCATION:The Happenstance – London\, The Happenstance\, 10 Paternoster Square\, London\, EC4M 7DX
CATEGORIES:Networking,Next Level Business Brunch,NLN,NLN Breakfast Group,North West,Region
ATTACH;FMTTYPE=image/jpeg:https://www.nextlevelconsultancy.co.uk/wp-content/uploads/2023/11/DM-HAP4.jpg
ORGANIZER;CN="Danny Williams":MAILTO:danny@nextlevelconsultancy.co.uk
END:VEVENT
END:VCALENDAR